BEGIN:VCALENDAR
VERSION:2.0
PRODID:-//SVP Wallisellen //NONSGML Events //EN
CALSCALE:GREGORIAN
X-WR-CALNAME:SVP Wallisellen
BEGIN:VEVENT
CREATED:20250521T050244Z
UID:831
DTEND:20280825T000000
DTSTART:20280825T000000
DTSTAMP:20260420T015632Z
LOCATION:Wallisellen
DESCRIPTION:
SUMMARY:Orientierungskonferenz
ORGANIZER:
URL;VALUE=URI:https://www.svp-wallisellen.ch/termine/orientierungskonferenz-6/
TRANSP:OPAQUE
END:VEVENT
END:VCALENDAR
